BEGIN:VCALENDAR
VERSION:2.0
PRODID:icalendar-ruby
CALSCALE:GREGORIAN
METHOD:PUBLISH
BEGIN:VEVENT
DTSTAMP:20260425T222625Z
UID:5-408405@showersof.tithelysetup5.com
DTSTART:20260927T170000Z
DTEND:20260927T180000Z
CLASS:PUBLIC
CREATED:20260425T124413
DESCRIPTION:Sunday Worship
LAST-MODIFIED:20260425T124413
LOCATION:1251 Gordon Park Road\, Augusta\, Georgia 30901
SUMMARY:Sunday Worship
URL;VALUE=URI:https://www.cogicusa.com/events/sunday-worship/2026-09-27
END:VEVENT
END:VCALENDAR
