BEGIN:VCALENDAR
VERSION:2.0
PRODID:icalendar-ruby
CALSCALE:GREGORIAN
METHOD:PUBLISH
BEGIN:VEVENT
DTSTAMP:20260426T020221Z
UID:5-408929@showersof.tithelysetup5.com
DTSTART:20261011T170000Z
DTEND:20261011T180000Z
CLASS:PUBLIC
CREATED:20260425T180910
DESCRIPTION:Sunday Worship
LAST-MODIFIED:20260425T180910
LOCATION:1251 Gordon Park Road\, Augusta\, Georgia 30901
SUMMARY:Sunday Worship
URL;VALUE=URI:https://www.cogicusa.com/events/sunday-worship/2026-10-11
END:VEVENT
END:VCALENDAR
